Workbook

Sheet RESUMEN
A2: LOTES | B2: PRESUPUESTO SIN IVA 2 AÑOS | C2: IVA | D2: PRESUPUESTO CON IVA A 2 AÑOS | E2: OFERTA SIN IVA A 2 AÑOS | F2: OFERTA CON IVA A 2 AÑOS
A3: LOTE 1 | B3: ='LOTE 1'!L537 -> 544518.04 | C3: =D3-B3 -> 104639.29 | D3: ='LOTE 1'!M537 -> 649157.33 | E3: ='LOTE 1'!R537 -> 0 | F3: ='LOTE 1'!S538 -> 0
A4: LOTE 2 | B4: ='LOTE 2'!L130 -> 95457.42 | C4: =D4-B4 -> 16794.353 | D4: ='LOTE 2'!M130 -> 112251.77 | E4: ='LOTE 2'!R130 -> 0 | F4: ='LOTE 2'!S131 -> 0
A5: LOTE 3 | B5: ='LOTE 3'!L8 -> 53137.92 | C5: =D5-B5 -> 9536.5512 | D5: ='LOTE 3'!M8 -> 62674.471 | E5: ='LOTE 3'!R8 -> 0 | F5: ='LOTE 3'!S9 -> 0
A6: LOTE 4 | B6: ='LOTE 4'!L24 -> 76421.7 | C6: =D6-B6 -> 16048.557 | D6: ='LOTE 4'!M24 -> 92470.257 | E6: ='LOTE 4'!R24 -> 0 | F6: ='LOTE 4'!S25 -> 0
A7: LOTE 5 | B7: ='LOTE 5'!L30 -> 57387.68 | C7: =D7-B7 -> 8225.3928 | D7: ='LOTE 5'!M30 -> 65613.073 | E7: ='LOTE 5'!R30 -> 0 | F7: ='LOTE 5'!S31 -> 0
A9: LOTES | B9: VALOR ESTIMADO
A10: LOTE 1 | B10: =B3 -> 544518.04
A11: LOTE 2 | B11: =B4 -> 95457.42
A12: LOTE 3 | B12: =B5 -> 53137.92
A13: LOTE 4 | B13: =B6 -> 76421.7
A14: LOTE 5 | B14: =B7 -> 57387.68
A16: TOTAL PBL EXP sin iva | B16: =SUM(B3:B7) -> 826922.76 | D16: Distribucion plurianual | E16: importe
A17: IVA | B17: =SUM(C3:C7) -> 155244.14 | D17: 2026 | E17: =B16/2 -> 413461.38
A18: TOTAL PBL EXP CON IVA | B18: =SUM(D3:D7) -> 982166.9 | D18: 2027 | E18: =B16/2 -> 413461.38
A19: total valor prorrogas | B19: -
A20: VALOR ESTIMADO | B20: =SUM(B3:B7) -> 826922.76

Sheet LOTE 1
A1: LOTE 1 | C1: LOTE 1
A2: FAMILIA PIXEL | B2: SUBFAMILIA PIXEL | C2: NOMBRE | D2: MATERIAL MUTUA MONTAÑESA | E2: DESCRIPCIÓN ARTÍCULO SOLICITADO MM | F2: Referencia Fabricante | G2: Cantidad estimada PARA 1 AÑO | H2: Cantidad estimada PARA 2 AÑOS | I2: Precio Unitario MAXIMO | J2: IVA | K2: Precio unitario con IVA Incrementado | L2: PBL 2 AÑOS SIN IVA | M2: PBL anual + IVA | N2: CAJA ó UNIDAD | O2: UNIDADES | P2: PRECIO UNITARIO OFERTADO SIN IVA | Q2: PRECIO UNITARIO OFERTADO CON IVA | R2: OFERTA TOTAL 2 AÑOS SIN IVA | S2: OFERTA TOTAL 2 AÑOS CON IVA | T2: REFERENCIA FABRICANTE OFERTADO
A3: Productos Farmacéuticos | B3: Sueros y dializantes | C3: Suero fisiológico 0.9% irrigación | D3: 3001SUER00001 | E3: Suero fisiológico 0.9% irrigación | G3: 4 | H3: =G3*2 -> 8 | I3: 7.48 | J3: 0.21 | K3: =I3+I3*J3 -> 9.0508 | L3: =H3*I3 -> 59.84 | M3: =H3*K3 -> 72.4064 | N3: Caja | O3: 10 | Q3: =P3+P3*J3 -> 0 | R3: =P3*H3 -> 0 | S3: =R3+R3*J3 -> 0
A4: Productos Farmacéuticos | B4: Sueros y dializantes | C4: Suero Fisiológico 0.9 % solución. Clorur | D4: 3001SUER00002 | E4: Suero Fisiológico 0.9 % solución. Cloruro sódico al 0,9% en agua para irrigación. Estéril. 20x250ml | G4: 81 | H4: =G4*2 -> 162 | I4: 14.15 | J4: 0.21 | K4: =I4+I4*J4 -> 17.1215 | L4: =H4*I4 -> 2292.3 | M4: =H4*K4 -> 2773.683 | N4: Caja | O4: 20 | Q4: =P4+P4*J4 -> 0 | R4: =P4*H4 -> 0 | S4: =R4+R4*J4 -> 0
A5: Productos Farmacéuticos | B5: Sueros y dializantes | C5: Suero fisiológico 10ml. | D5: 3001SUER00003 | E5: Suero fisiológico 10ml. | G5: 14 | H5: =G5*2 -> 28 | I5: 2.23 | J5: 0.21 | K5: =I5+I5*J5 -> 2.6983 | L5: =H5*I5 -> 62.44 | M5: =H5*K5 -> 75.5524 | N5: Caja | O5: 10 | Q5: =P5+P5*J5 -> 0 | R5: =P5*H5 -> 0 | S5: =R5+R5*J5 -> 0
A6: Productos Farmacéuticos | B6: Sueros y dializantes | C6: Suero fisiológico estéril para nariz-ojo | D6: 3001SUER00004 | E6: Suero fisiológico estéril para nariz-ojos. Monodosis 5ml. | G6: 6 | H6: =G6*2 -> 12 | I6: 2.56 | J6: 0.21 | K6: =I6+I6*J6 -> 3.0976 | L6: =H6*I6 -> 30.72 | M6: =H6*K6 -> 37.1712 | N6: Caja | O6: 30 | Q6: =P6+P6*J6 -> 0 | R6: =P6*H6 -> 0 | S6: =R6+R6*J6 -> 0
A7: Productos Farmacéuticos | B7: Sueros y dializantes | C7: Suero fisiológico irrigación 0,9% uromat | D7: 3001SUER00005 | E7: Suero fisiológico irrigación 0,9% uromatic 3000ml | G7: 252 | H7: =G7*2 -> 504 | I7: 19.04 | J7: 0.21 | K7: =I7+I7*J7 -> 23.0384 | L7: =H7*I7 -> 9596.16 | M7: =H7*K7 -> 11611.354 | N7: Caja | O7: 4 | Q7: =P7+P7*J7 -> 0 | R7: =P7*H7 -> 0 | S7: =R7+R7*J7 -> 0
A8: Productos Farmacéuticos | B8: Sueros y dializantes | C8: Suero NaCl 0,9% para irrigación y limpie | D8: 3001SUER00006 | E8: Suero NaCl 0,9% para irrigación y limpieza durante una intervención quirúrgica 500 ml. Envase flexible de polietileno, sin aditivos, de un solo componente. Totalmente reciclable. Apertura rápida “twist-off” (de torsión).Diseño ergonómico: el diámetro de la botella y su formato tipo “cilindro” es apropiado para obtener una mayor control de la presión y dirección del líquido, facilitando el lavado. Bolsa externa formada por una capa interna de polipropileno de 75µm y una externa de poliamida de 25 µm, que garantiza la esterilidad del producto para utilizarlo directamente en el campo quirúrgico. | F8: 387866 | G8: 12 | H8: =G8*2 -> 24 | I8: 22.44 | J8: 0.21 | K8: =I8+I8*J8 -> 27.1524 | L8: =H8*I8 -> 538.56 | M8: =H8*K8 -> 651.6576 | N8: Caja | O8: 10 | Q8: =P8+P8*J8 -> 0 | R8: =P8*H8 -> 0 | S8: =R8+R8*J8 -> 0
A9: Productos Farmacéuticos | B9: Sueros y dializantes | C9: Suero fisiológico irrigación 0,9% ecolav | D9: 3001SUER00007 | E9: Suero fisiológico irrigación 0,9% ecolav 250ml | G9: 10 | H9: =G9*2 -> 20 | I9: 13.26 | J9: 0.21 | K9: =I9+I9*J9 -> 16.0446 | L9: =H9*I9 -> 265.2 | M9: =H9*K9 -> 320.892 | N9: Caja | O9: 20 | Q9: =P9+P9*J9 -> 0 | R9: =P9*H9 -> 0 | S9: =R9+R9*J9 -> 0
A10: Productos Farmacéuticos | B10: Sueros y dializantes | C10: Suero fisiológico Lisubel 30 monodosis 5 | D10: 3001SUER00008 | E10: Suero fisiológico Lisubel 30 monodosis 5 ml. | G10: 3 | H10: =G10*2 -> 6 | I10: 1.97 | J10: 0.21 | K10: =I10+I10*J10 -> 2.3837 | L10: =H10*I10 -> 11.82 | M10: =H10*K10 -> 14.3022 | N10: Caja | O10: 30 | Q10: =P10+P10*J10 -> 0 | R10: =P10*H10 -> 0 | S10: =R10+R10*J10 -> 0
A11: Productos Farmacéuticos | B11: Otros productos farmacéuticos. | C11: Aceite rosa mosqueta 30ml | D11: 3090CREM00001 | E11: Aceite rosa mosqueta 30ml | G11: 3 | H11: =G11*2 -> 6 | I11: 7.47 | J11: 0.21 | K11: =I11+I11*J11 -> 9.0387 | L11: =H11*I11 -> 44.82 | M11: =H11*K11 -> 54.2322 | N11: Unidad | O11: 1 | Q11: =P11+P11*J11 -> 0 | R11: =P11*H11 -> 0 | S11: =R11+R11*J11 -> 0
A12: Productos Farmacéuticos | B12: Otros productos farmacéuticos. | C12: Crema de bálsamo de harpago 1 litro. | D12: 3090CREM00002 | E12: Crema de bálsamo de harpago 1 litro. | F12: PI1201 | G12: 1 | H12: =G12*2 -> 2 | I12: 51.3 | J12: 0.21 | K12: =I12+I12*J12 -> 62.073 | L12: =H12*I12 -> 102.6 | M12: =H12*K12 -> 124.146 | N12: Unidad | O12: 1 | Q12: =P12+P12*J12 -> 0 | R12: =P12*H12 -> 0 | S12: =R12+R12*J12 -> 0
A13: Productos Farmacéuticos | B13: Otros productos farmacéuticos. | C13: Crema hidratante con urea de alta hidrat | D13: 3090CREM00003 | E13: Crema hidratante con urea de alta hidratación y rápida absorción de 1000ml | F13: AC-460-UR | G13: 14 | H13: =G13*2 -> 28 | I13: 2.17 | J13: 0.21 | K13: =I13+I13*J13 -> 2.6257 | L13: =H13*I13 -> 60.76 | M13: =H13*K13 -> 73.5196 | N13: Unidad | O13: 1 | Q13: =P13+P13*J13 -> 0 | R13: =P13*H13 -> 0 | S13: =R13+R13*J13 -> 0
A14: Productos Farmacéuticos | B14: Otros productos farmacéuticos. | C14: Gel para masaje.Ingredientes naturales á | D14: 3090CREM00004 | E14: Gel para masaje en la preparación del músculo y los ligamentos. Fórmula con ingredientes naturales árnica, hipérico, caléndula y malaleuca. 60ml. | G14: 32 | H14: =G14*2 -> 64 | I14: 9.46 | J14: 0.21 | K14: =I14+I14*J14 -> 11.4466 | L14: =H14*I14 -> 605.44 | M14: =H14*K14 -> 732.5824 | N14: Unidad | O14: 1 | Q14: =P14+P14*J14 -> 0 | R14: =P14*H14 -> 0 | S14: =R14+R14*J14 -> 0
A15: Productos Farmacéuticos | B15: Otros productos farmacéuticos. | C15: Gel para masaje con ingredientes natural | D15: 3090CREM00005 | E15: Gel para masaje en la preparación del músculo y los ligamentos. Fórmula con ingredientes naturales árnica, hipérico, caléndula y malaleuca. 250ml. | G15: 315 | H15: =G15*2 -> 630 | I15: 21.42 | J15: 0.21 | K15: =I15+I15*J15 -> 25.9182 | L15: =H15*I15 -> 13494.6 | M15: =H15*K15 -> 16328.466 | N15: Unidad | O15: 1 | Q15: =P15+P15*J15 -> 0 | R15: =P15*H15 -> 0 | S15: =R15+R15*J15 -> 0
A16: Productos Farmacéuticos | B16: Otros productos farmacéuticos. | C16: Leche de masaje para todo tipo de pieles | D16: 3090CREM00006 | E16: Leche de masaje para todo tipo de pieles. 500ml | G16: 1 | H16: =G16*2 -> 2 | I16: 7.48 | J16: 0.21 | K16: =I16+I16*J16 -> 9.0508 | L16: =H16*I16 -> 14.96 | M16: =H16*K16 -> 18.1016 | N16: Unidad | O16: 1 | Q16: =P16+P16*J16 -> 0 | R16: =P16*H16 -> 0 | S16: =R16+R16*J16 -> 0
A17: Productos Farmacéuticos | B17: Otros productos farmacéuticos. | C17: Ungüento analgésico de calor suave. Ingr | D17: 3090CREM00007 | E17: Ungüento analgésico de calor suave. Ingredientes activos: salicilato de metilo y mentol. | F17: AV1999 | G17: 20 | H17: =G17*2 -> 40 | I17: 30.37 | J17: 0.21 | K17: =I17+I17*J17 -> 36.7477 | L17: =H17*I17 -> 1214.8 | M17: =H17*K17 -> 1469.908 | N17: Unidad | O17: 1 | Q17: =P17+P17*J17 -> 0 | R17: =P17*H17 -> 0 | S17: =R17+R17*J17 -> 0
A18: Material Sanitario de Consumo | B18: Material de radiodiagnósticos. | C18: Cascos optima peltor protección ruido | D18: 3100INST00001 | E18: Cascos optima peltor protección ruido | F18: 000835 H510A | G18: 1 | H18: =G18*2 -> 2 | I18: 17.26 | J18: 0.21 | K18: =I18+I18*J18 -> 20.8846 | L18: =H18*I18 -> 34.52 | M18: =H18*K18 -> 41.7692 | N18: Unidad | O18: 1 | Q18: =P18+P18*J18 -> 0 | R18: =P18*H18 -> 0 | S18: =R18+R18*J18 -> 0
A19: Material Sanitario de Consumo | B19: Catéteres, sondas, drenajes, colectores y membranas de diálisis. | C19: Aguja de anestesia 22 GR, aguja bisel qu | D19: 3110AGUJ00002 | E19: Aguja de anestesia 22 GR, aguja bisel quincke para anestesia espinal y punción lumbar diagnóstica. | F19: 405256 | G19: 4 | H19: =G19*2 -> 8 | I19: 39.44 | J19: 0.21 | K19: =I19+I19*J19 -> 47.7224 | L19: =H19*I19 -> 315.52 | M19: =H19*K19 -> 381.7792 | N19: Caja | O19: 25 | Q19: =P19+P19*J19 -> 0 | R19: =P19*H19 -> 0 | S19: =R19+R19*J19 -> 0
A20: Material Sanitario de Consumo | B20: Catéteres, sondas, drenajes, colectores y membranas de diálisis. | C20: Aguja de punción seca sujeta al tubo guí | D20: 3110AGUJ00003 | E20: Aguja de punción seca sujeta al tubo guía mediante mecanismo click, sin componentes químicos en la sujeción de la aguja. 0,25X25 | F20: 507957 | G20: 4 | H20: =G20*2 -> 8 | I20: 11.03 | J20: 0.21 | K20: =I20+I20*J20 -> 13.3463 | L20: =H20*I20 -> 88.24 | M20: =H20*K20 -> 106.7704 | N20: Caja | O20: 100 | Q20: =P20+P20*J20 -> 0 | R20: =P20*H20 -> 0 | S20: =R20+R20*J20 -> 0
A21: Material Sanitario de Consumo | B21: Catéteres, sondas, drenajes, colectores y membranas de diálisis. | C21: Aguja de punción seca sujeta al tubo guí | D21: 3110AGUJ00004 | E21: Aguja de punción seca sujeta al tubo guía mediante mecanismo click, sin componentes químicos en la sujeción de la aguja. 0,25X40. | F21: 507958 | G21: 4 | H21: =G21*2 -> 8 | I21: 10.81 | J21: 0.21 | K21: =I21+I21*J21 -> 13.0801 | L21: =H21*I21 -> 86.48 | M21: =H21*K21 -> 104.6408 | N21: Caja | O21: 100 | Q21: =P21+P21*J21 -> 0 | R21: =P21*H21 -> 0 | S21: =R21+R21*J21 -> 0
A22: Material Sanitario de Consumo | B22: Catéteres, sondas, drenajes, colectores y membranas de diálisis. | C22: Aguja de punción seca sujeta al tubo guí | D22: 3110AGUJ00005 | E22: Aguja de punción seca sujeta al tubo guía mediante mecanismo click, sin componentes químicos en la sujeción de la aguja.0,30X60. | F22: 507961 | G22: 4 | H22: =G22*2 -> 8 | I22: 11.66 | J22: 0.21 | K22: =I22+I22*J22 -> 14.1086 | L22: =H22*I22 -> 93.28 | M22: =H22*K22 -> 112.8688 | N22: Caja | O22: 100 | Q22: =P22+P22*J22 -> 0 | R22: =P22*H22 -> 0 | S22: =R22+R22*J22 -> 0
A23: Material Sanitario de Consumo | B23: Catéteres, sondas, drenajes, colectores y membranas de diálisis. | C23: Aguja de punta lápiz para anestesia espi | D23: 3110AGUJ00006 | E23: Aguja de punta lápiz para anestesia espinal n° 27 G. | F23: 405075 | G23: 2 | H23: =G23*2 -> 4 | I23: 276.17 | J23: 0.21 | K23: =I23+I23*J23 -> 334.1657 | L23: =H23*I23 -> 1104.68 | M23: =H23*K23 -> 1336.6628 | N23: Caja | O23: 25 | Q23: =P23+P23*J23 -> 0 | R23: =P23*H23 -> 0 | S23: =R23+R23*J23 -> 0
A24: Material Sanitario de Consumo | B24: Catéteres, sondas, drenajes, colectores y membranas de diálisis. | C24: Aguja para la localización y bloqueo ane | D24: 3110AGUJ00007 | E24: Aguja para la localización y bloqueo anestésico mediante técnica de punción única aplicada a la anestesia de plexos y nervios periféricos guiada a través de ecografía y neuroestimulación 360° 22 G x 2 0.70 x 50mm. | F24: 4894502 | G24: 1 | H24: =G24*2 -> 2 | I24: 358.28 | J24: 0.21 | K24: =I24+I24*J24 -> 433.5188 | L24: =H24*I24 -> 716.56 | M24: =H24*K24 -> 867.0376 | N24: Caja | O24: 25 | Q24: =P24+P24*J24 -> 0 | R24: =P24*H24 -> 0 | S24: =R24+R24*J24 -> 0
A25: Material Sanitario de Consumo | B25: Catéteres, sondas, drenajes, colectores y membranas de diálisis. | C25: Aguja para la localización y bloqueo ane | D25: 3110AGUJ00008 | E25: Aguja para la localización y bloqueo anestésico mediante técnica de punción única aplicada a la anestesia de plexos y nervios periféricos guiada a través de ecografía y neuroestimulación. 360° 20 G x 4 0.90 x 100mm. | F25: 4892510-01 | G25: 2 | H25: =G25*2 -> 4 | I25: 821.67 | J25: 0.21 | K25: =I25+I25*J25 -> 994.2207 | L25: =H25*I25 -> 3286.68 | M25: =H25*K25 -> 3976.8828 | N25: Caja | O25: 25 | Q25: =P25+P25*J25 -> 0 | R25: =P25*H25 -> 0 | S25: =R25+R25*J25 -> 0
A26: Material Sanitario de Consumo | B26: Catéteres, sondas, drenajes, colectores y membranas de diálisis. | C26: Aguja para la localización y bloqueo ane | D26: 3110AGUJ00009 | E26: Aguja para la localización y bloqueo anestésico mediante técnica de punción única aplicada a la anestesia de plexos y nervios periféricos guiada a través de ecografía y neuroestimulación. 360° 20 Gx6 ,0,9 x 150mm. | F26: 4892515-01 | G26: 1 | H26: =G26*2 -> 2 | I26: 829.79 | J26: 0.21 | K26: =I26+I26*J26 -> 1004.0459 | L26: =H26*I26 -> 1659.58 | M26: =H26*K26 -> 2008.0918 | N26: Caja | O26: 25 | Q26: =P26+P26*J26 -> 0 | R26: =P26*H26 -> 0 | S26: =R26+R26*J26 -> 0
A27: Material Sanitario de Consumo | B27: Catéteres, sondas, drenajes, colectores y membranas de diálisis. | C27: Aguja polymedic 22/27G 90 mm | D27: 3110AGUJ00010 | E27: Aguja polymedic 22/27G 90 mm | G27: 1 | H27: =G27*2 -> 2 | I27: 276.17 | J27: 0.21 | K27: =I27+I27*J27 -> 334.1657 | L27: =H27*I27 -> 552.34 | M27: =H27*K27 -> 668.3314 | N27: Caja | O27: 25 | Q27: =P27+P27*J27 -> 0 | R27: =P27*H27 -> 0 | S27: =R27+R27*J27 -> 0
A28: Material Sanitario de Consumo | B28: Catéteres, sondas, drenajes, colectores y membranas de diálisis. | C28: Aguja sin cabeza con mango rígido 0,30X0 | D28: 3110AGUJ00011 | E28: Aguja sin cabeza con mango rígido. Acero quirúrgico de alta resistencia, afilado especial para punción seca y triple capa de aceite. 0,30X0,40. | G28: 1 | H28: =G28*2 -> 2 | I28: 6.36 | J28: 0.21 | K28: =I28+I28*J28 -> 7.6956 | L28: =H28*I28 -> 12.72 | M28: =H28*K28 -> 15.3912 | N28: Caja | O28: 100 | Q28: =P28+P28*J28 -> 0 | R28: =P28*H28 -> 0 | S28: =R28+R28*J28 -> 0
A29: Material Sanitario de Consumo | B29: Catéteres, sondas, drenajes, colectores y membranas de diálisis. | C29: Aguja sin cabeza con mango rígido 0,25X0 | D29: 3110AGUJ00012 | E29: Aguja sin cabeza con mango rígido. Acero quirúrgico de alta resistencia, afilado especial para punción seca y triple capa de aceite.0,25X0,30. | G29: 1 | H29: =G29*2 -> 2 | I29: 6.36 | J29: 0.21 | K29: =I29+I29*J29 -> 7.6956 | L29: =H29*I29 -> 12.72 | M29: =H29*K29 -> 15.3912 | N29: Caja | O29: 100 | Q29: =P29+P29*J29 -> 0 | R29: =P29*H29 -> 0 | S29: =R29+R29*J29 -> 0
A30: Material Sanitario de Consumo | B30: Catéteres, sondas, drenajes, colectores y membranas de diálisis. | C30: Aguja spinocan 0.7 X 88 G22 | D30: 3110AGUJ00013 | E30: Aguja spinocan 0.7 X 88 G22 | F30: 4507908-01 | G30: 1 | H30: =G30*2 -> 2 | I30: 65.09 | J30: 0.21 | K30: =I30+I30*J30 -> 78.7589 | L30: =H30*I30 -> 130.18 | M30: =H30*K30 -> 157.5178 | N30: Caja | O30: 25 | Q30: =P30+P30*J30 -> 0 | R30: =P30*H30 -> 0 | S30: =R30+R30*J30 -> 0
A31: Material Sanitario de Consumo | B31: Catéteres, sondas, drenajes, colectores y membranas de diálisis. | C31: Agujas con punta de lápiz para anestesia | D31: 3110AGUJ00014 | E31: Agujas con punta de lápiz para anestesia espinal y punción lumbar diagnóstica 27G (0,4x120) Diseño de la punta para mínima penetración intratecal evitando un bloqueo incorrecto. Pabellón transparente con prisma que refleje el reflujo del LCR. | F31: 4502120-13 | G31: 2 | H31: =G31*2 -> 4 | I31: 189.72 | J31: 0.21 | K31: =I31+I31*J31 -> 229.5612 | L31: =H31*I31 -> 758.88 | M31: =H31*K31 -> 918.2448 | N31: Caja | O31: 25 | Q31: =P31+P31*J31 -> 0 | R31: =P31*H31 -> 0 | S31: =R31+R31*J31 -> 0
A32: Material Sanitario de Consumo | B32: Catéteres, sondas, drenajes, colectores y membranas de diálisis. | C32: Agujas de 0.25x8mm para plumas y jeringa | D32: 3110AGUJ00015 | E32: Agujas de 0.25x8mm para plumas y jeringas de longitud de 8mm y 31 gramos de grosor. Agujas extrafinas que garanticen mayor comodidad en el momento de la inyección por un biselado especial | F32: 320213 | G32: 2 | H32: =G32*2 -> 4 | I32: 15.53 | J32: 0.21 | K32: =I32+I32*J32 -> 18.7913 | L32: =H32*I32 -> 62.12 | M32: =H32*K32 -> 75.1652 | N32: Caja | O32: 100 | Q32: =P32+P32*J32 -> 0 | R32: =P32*H32 -> 0 | S32: =R32+R32*J32 -> 0
A33: Material Sanitario de Consumo | B33: Catéteres, sondas, drenajes, colectores y membranas de diálisis. | C33: Agujas espinales con doble gauge micro-t | D33: 3110AGUJ00016 | E33: Agujas espinales con doble gauge micro-tip 22/27 G 3 mm 38 mm negro/gris. | F33: 21922-27 | G33: 6 | H33: =G33*2 -> 12 | I33: 276.17 | J33: 0.21 | K33: =I33+I33*J33 -> 334.1657 | L33: =H33*I33 -> 3314.04 | M33: =H33*K33 -> 4009.9884 | N33: Caja | O33: 25 | Q33: =P33+P33*J33 -> 0 | R33: =P33*H33 -> 0 | S33: =R33+R33*J33 -> 0
A34: Material Sanitario de Consumo | B34: Catéteres, sondas, drenajes, colectores y membranas de diálisis. | C34: Agujas hipodérmicas estériles 20Gx1 0,9x | D34: 3110AGUJ00017 | E34: Agujas hipodérmicas estériles 20Gx1 0,9x25mm. | F34: 304827 (10056) | G34: 66 | H34: =G34*2 -> 132 | I34: 2.32 | J34: 0.21 | K34: =I34+I34*J34 -> 2.8072 | L34: =H34*I34 -> 306.24 | M34: =H34*K34 -> 370.5504 | N34: Caja | O34: 100 | Q34: =P34+P34*J34 -> 0 | R34: =P34*H34 -> 0 | S34: =R34+R34*J34 -> 0
A35: Material Sanitario de Consumo | B35: Catéteres, sondas, drenajes, colectores y membranas de diálisis. | C35: Agujas hipodérmicas estériles 21Gx1 1/2 | D35: 3110AGUJ00018 | E35: Agujas hipodérmicas estériles 21Gx1 1/2 0,8x40mm. | F35: 10054 | G35: 4 | H35: =G35*2 -> 8 | I35: 4.93 | J35: 0.21 | K35: =I35+I35*J35 -> 5.9653 | L35: =H35*I35 -> 39.44 | M35: =H35*K35 -> 47.7224 | N35: Caja | O35: 100 | Q35: =P35+P35*J35 -> 0 | R35: =P35*H35 -> 0 | S35: =R35+R35*J35 -> 0
A36: Material Sanitario de Consumo | B36: Catéteres, sondas, drenajes, colectores y membranas de diálisis. | C36: Agujas hipodérmicas estériles 23Gx1 0,6x | D36: 3110AGUJ00019 | E36: Agujas hipodérmicas estériles 23Gx1 0,6x25mm. | G36: 3 | H36: =G36*2 -> 6 | I36: 4.44 | J36: 0.21 | K36: =I36+I36*J36 -> 5.3724 | L36: =H36*I36 -> 26.64 | M36: =H36*K36 -> 32.2344 | N36: Caja | O36: 100 | Q36: =P36+P36*J36 -> 0 | R36: =P36*H36 -> 0 | S36: =R36+R36*J36 -> 0
A37: Material Sanitario de Consumo | B37: Catéteres, sondas, drenajes, colectores y membranas de diálisis. | C37: Agujas hipodérmicas estériles 25Gx5/8 0, | D37: 3110AGUJ00020 | E37: Agujas hipodérmicas estériles 25Gx5/8 0,5x16mm. | F37: 10051 | G37: 29 | H37: =G37*2 -> 58 | I37: 4.44 | J37: 0.21 | K37: =I37+I37*J37 -> 5.3724 | L37: =H37*I37 -> 257.52 | M37: =H37*K37 -> 311.5992 | N37: Caja | O37: 100 | Q37: =P37+P37*J37 -> 0 | R37: =P37*H37 -> 0 | S37: =R37+R37*J37 -> 0
A38: Material Sanitario de Consumo | B38: Catéteres, sondas, drenajes, colectores y membranas de diálisis. | C38: Agujas hipodérmicas estériles. 19Gx1 1/2 | D38: 3110AGUJ00021 | E38: Agujas hipodérmicas estériles. 19Gx1 1/2 1,1x40mm. | F38: 301500 | G38: 15 | H38: =G38*2 -> 30 | I38: 2.99 | J38: 0.21 | K38: =I38+I38*J38 -> 3.6179 | L38: =H38*I38 -> 89.7 | M38: =H38*K38 -> 108.537 | N38: Caja | O38: 100 | Q38: =P38+P38*J38 -> 0 | R38: =P38*H38 -> 0 | S38: =R38+R38*J38 -> 0
A39: Material Sanitario de Consumo | B39: Catéteres, sondas, drenajes, colectores y membranas de diálisis. | C39: Agujas hipodérmicas estériles. 20Gx1 1/2 | D39: 3110AGUJ00022 | E39: Agujas hipodérmicas estériles. 20Gx1 1/2 0,9x40mm. | F39: 301300 (10057) | G39: 11 | H39: =G39*2 -> 22 | I39: 2.65 | J39: 0.21 | K39: =I39+I39*J39 -> 3.2065 | L39: =H39*I39 -> 58.3 | M39: =H39*K39 -> 70.543 | N39: Caja | O39: 100 | Q39: =P39+P39*J39 -> 0 | R39: =P39*H39 -> 0 | S39: =R39+R39*J39 -> 0
A40: Material Sanitario de Consumo | B40: Catéteres, sondas, drenajes, colectores y membranas de diálisis. | C40: Agujas hipodérmicas estériles. Aguja 27G | D40: 3110AGUJ00023 | E40: Agujas hipodérmicas estériles. Aguja 27Gx1/2 0,4x13mm | F40: 300635 | G40: 1 | H40: =G40*2 -> 2 | I40: 4.57 | J40: 0.21 | K40: =I40+I40*J40 -> 5.5297 | L40: =H40*I40 -> 9.14 | M40: =H40*K40 -> 11.0594 | N40: Caja | O40: 100 | Q40: =P40+P40*J40 -> 0 | R40: =P40*H40 -> 0 | S40: =R40+R40*J40 -> 0
...

Sheet LOTE 2
A1: LOTE 2
A2: FAMILIA PIXEL | B2: SUBFAMILIA PIXEL | C2: NOMBRE | D2: MATERIAL MUTUA MONTAÑESA | E2: DESCRIPCIÓN ARTÍCULO SOLICITADO MM | F2: Referencia Fabricante | G2: Cantidad estimada PARA 1 AÑO | H2: Cantidad estimada PARA 2 AÑO | I2: Precio Unitario MAXIMO | J2: IVA | K2: Precio unitario con IVA MAXIMO | L2: PBL 2 AÑOS SIN IVA | M2: PBL 2 AÑOS CON IVA | N2: CAJA ó UNIDAD | O2: UNIDADES | P2: PRECIO UNITARIO OFERTADO SIN IVA | Q2: PRECIO UNITARIO OFERTADO CON IVA | R2: OFERTA TOTAL 2 AÑOS SIN IVA | S2: OFERTA TOTAL 2 AÑOS CON IVA | T2: REFERENCIA FABRICANTE OFERTADO
A3: Productos Farmacéuticos | B3: Otros productos farmacéuticos. | C3: Lentinas 1,27x1,27 johnson&john | D3: 3090COLI00001 | E3: Lentinas 1,27x1,27 johnson&john | G3: 1 | H3: =G3*2 -> 2 | I3: 173.81 | J3: 0.1 | K3: =I3+I3*J3 -> 191.191 | L3: =H3*I3 -> 347.62 | M3: =L3+L3*J3 -> 382.382 | N3: Caja | O3: 240 | Q3: =P3+P3*J3 -> 0 | R3: =P3*H3 -> 0 | S3: =R3+R3*J3 -> 0
A4: Material Sanitario de Consumo | B4: Catéteres, sondas, drenajes, colectores y membranas de diálisis. | C4: Aguja colorado microd. recta tungst 54mm | D4: 3110AGUJ00001 | E4: Aguja colorado microd. recta tungst 54mm | G4: 21 | H4: =G4*2 -> 42 | I4: 12.32 | J4: 0.21 | K4: =I4+I4*J4 -> 14.9072 | L4: =H4*I4 -> 517.44 | M4: =L4+L4*J4 -> 626.1024 | N4: Unidad | O4: 1 | Q4: =P4+P4*J4 -> 0 | R4: =P4*H4 -> 0 | S4: =R4+R4*J4 -> 0
A5: Material Sanitario de Consumo | B5: Catéteres, sondas, drenajes, colectores y membranas de diálisis. | C5: Catéter de embolectomía con punta corta | D5: 3110CATE00006 | E5: Catéter de embolectomía con punta corta distal que permite una inserción arterial mas fácil, reduciendo la disección de placa. Globo resistente, se infla con una forma cilíndrica. El cuerpo del catéter es lo suficientemente rígido para la inserción contrario al flujo sanguíneo. catéter Fogarty para embolectomía 3fr 80cm. | F5: 120803F | G5: 1 | H5: =G5*2 -> 2 | I5: 163.2 | J5: 0.21 | K5: =I5+I5*J5 -> 197.472 | L5: =H5*I5 -> 326.4 | M5: =L5+L5*J5 -> 394.944 | N5: Unidad | O5: 1 | Q5: =P5+P5*J5 -> 0 | R5: =P5*H5 -> 0 | S5: =R5+R5*J5 -> 0
A6: Material Sanitario de Consumo | B6: Catéteres, sondas, drenajes, colectores y membranas de diálisis. | C6: Contiplex tuohy ultra 360 G18 1.3X50 | D6: 3110CATE00007 | E6: Contiplex tuohy ultra 360 G18 1.3X50 | G6: 1 | H6: =G6*2 -> 2 | I6: 682.38 | J6: 0.21 | K6: =I6+I6*J6 -> 825.6798 | L6: =H6*I6 -> 1364.76 | M6: =L6+L6*J6 -> 1651.3596 | N6: Caja | O6: 10 | Q6: =P6+P6*J6 -> 0 | R6: =P6*H6 -> 0 | S6: =R6+R6*J6 -> 0
A7: Material Sanitario de Consumo | B7: Catéteres, sondas, drenajes, colectores y membranas de diálisis. | C7: Sistema certocix doble 18g. | D7: 3110CATE00008 | E7: Sistema certocix doble 18g. | G7: 1 | H7: =G7*2 -> 2 | I7: 376.99 | J7: 0.21 | K7: =I7+I7*J7 -> 456.1579 | L7: =H7*I7 -> 753.98 | M7: =L7+L7*J7 -> 912.3158 | N7: Caja | O7: 10 | Q7: =P7+P7*J7 -> 0 | R7: =P7*H7 -> 0 | S7: =R7+R7*J7 -> 0
A8: Material Sanitario de Consumo | B8: Catéteres, sondas, drenajes, colectores y membranas de diálisis. | C8: Reservorio drenaje plano 400cc | D8: 3110DREN00006 | E8: Reservorio drenaje plano 400cc | F8: A009495 2013-0640 | G8: 1 | H8: =G8*2 -> 2 | I8: 81.16 | J8: 0.21 | K8: =I8+I8*J8 -> 98.2036 | L8: =H8*I8 -> 162.32 | M8: =L8+L8*J8 -> 196.4072 | N8: Caja | O8: 5 | Q8: =P8+P8*J8 -> 0 | R8: =P8*H8 -> 0 | S8: =R8+R8*J8 -> 0
A9: Material Sanitario de Consumo | B9: Catéteres, sondas, drenajes, colectores y membranas de diálisis. | C9: Drenaje plano 10mm 3/4 perf c/troc | D9: 3110DREN00007 | E9: Drenaje plano 10mm 3/4 perf c/troc | F9: A009496 PR20149101 | G9: 1 | H9: =G9*2 -> 2 | I9: 131.14 | J9: 0.21 | K9: =I9+I9*J9 -> 158.6794 | L9: =H9*I9 -> 262.28 | M9: =L9+L9*J9 -> 317.3588 | N9: Caja | O9: 10 | Q9: =P9+P9*J9 -> 0 | R9: =P9*H9 -> 0 | S9: =R9+R9*J9 -> 0
A10: Material Sanitario de Consumo | B10: Catéteres, sondas, drenajes, colectores y membranas de diálisis. | C10: Cánula Yankauer 4 mm x 25cm. Estéril. Pu | D10: 3110RESP00001 | E10: Cánula Yankauer 4 mm x 25cm. Estéril. Punta recta Fabricado en PVC atóxico y transparente. | F10: 27512 | G10: 1 | H10: =G10*2 -> 2 | I10: 67.83 | J10: 0.21 | K10: =I10+I10*J10 -> 82.0743 | L10: =H10*I10 -> 135.66 | M10: =L10+L10*J10 -> 164.1486 | N10: Unidad | O10: 50 | Q10: =P10+P10*J10 -> 0 | R10: =P10*H10 -> 0 | S10: =R10+R10*J10 -> 0
A11: Material Sanitario de Consumo | B11: Catéteres, sondas, drenajes, colectores y membranas de diálisis. | C11: Sonda Foley de silicona con balón. Sin l | D11: 3110SOND00002 | E11: Sonda Foley de silicona para drenaje urinario de larga permanencia, con balón, de Silkomed (100% Elastómero de silicona), transparentes, con punta radiopaca, con embudo, válvula para racores de jeringa luer y luer-lock, para uso único, estéril. Aprox. 41 cm de longitud, cilíndrica, con 2 orificios opuestos, punta plena. Con jeringuilla cargada (10 ml de Glicerina acuosa al 10% estéril). Sin látex CH14 | F11: 178000-14 | G11: 2 | H11: =G11*2 -> 4 | I11: 4.1 | J11: 0.1 | K11: =I11+I11*J11 -> 4.51 | L11: =H11*I11 -> 16.4 | M11: =L11+L11*J11 -> 18.04 | N11: Caja | O11: 1 | Q11: =P11+P11*J11 -> 0 | R11: =P11*H11 -> 0 | S11: =R11+R11*J11 -> 0
A12: Material Sanitario de Consumo | B12: Catéteres, sondas, drenajes, colectores y membranas de diálisis. | C12: Sonda Foley de silicona para drenaje uri | D12: 3110SOND00003 | E12: Sonda Foley de silicona para drenaje urinario de larga permanencia, con balón, de silkomed (100% Elastómero de silicona), transparentes, con punta radiopaca, con embudo, válvula para racores de jeringa luer y luer-lock, para uso único, estéril. Aprox. 41 cm de longitud, cilíndrica, con 2 orificios opuestos, punta plena. Con jeringuilla cargada (10 ml de Glicerina acuosa al 10% estéril). Sin látex CH16 | F12: 178000-16 | G12: 2 | H12: =G12*2 -> 4 | I12: 21.73 | J12: 0.1 | K12: =I12+I12*J12 -> 23.903 | L12: =H12*I12 -> 86.92 | M12: =L12+L12*J12 -> 95.612 | N12: Caja | O12: 5 | Q12: =P12+P12*J12 -> 0 | R12: =P12*H12 -> 0 | S12: =R12+R12*J12 -> 0
A13: Material Sanitario de Consumo | B13: Catéteres, sondas, drenajes, colectores y membranas de diálisis. | C13: Sonda Foley de silicona para drenaje uri | D13: 3110SOND00004 | E13: Sonda Foley de silicona para drenaje urinario de larga permanencia, con balón, de silkomed (100% elastómero de silicona), transparentes, con punta radiopaca, con embudo, válvula para racores de jeringa luer y luer-lock, para uso único, estéril. Aprox. 41 cm de longitud, cilíndrica, con 2 orificios opuestos, punta plena. Con jeringuilla cargada (10 ml de Glicerina acuosa al 10% estéril). Sin látex CH18 | G13: 3 | H13: =G13*2 -> 6 | I13: 21.73 | J13: 0.1 | K13: =I13+I13*J13 -> 23.903 | L13: =H13*I13 -> 130.38 | M13: =L13+L13*J13 -> 143.418 | N13: Caja | O13: 5 | Q13: =P13+P13*J13 -> 0 | R13: =P13*H13 -> 0 | S13: =R13+R13*J13 -> 0
A14: Material Sanitario de Consumo | B14: Catéteres, sondas, drenajes, colectores y membranas de diálisis. | C14: Sonda de succión con control,ch 16 longi | D14: 3110SOND00005 | E14: Sonda de succión con control, ch 16 longitud 52 cm. Abertura central 2 pequeños orificios laterales. | F14: 1952081 | G14: 1 | H14: =G14*2 -> 2 | I14: 32.64 | J14: 0.1 | K14: =I14+I14*J14 -> 35.904 | L14: =H14*I14 -> 65.28 | M14: =L14+L14*J14 -> 71.808 | N14: Caja | O14: 100 | Q14: =P14+P14*J14 -> 0 | R14: =P14*H14 -> 0 | S14: =R14+R14*J14 -> 0
A15: Material Sanitario de Consumo | B15: Catéteres, sondas, drenajes, colectores y membranas de diálisis. | C15: Sonda nasogástrica duodenal tipo Levin c | D15: 3110SOND00006 | E15: Sonda nasogástrica duodenal tipo Levin con línea radiopaca, extremo distal con punta cilíndrica abierta y 4 orificios laterales. 100% PVC. CH16 122cm S | F15: 444653 | G15: 2 | H15: =G15*2 -> 4 | I15: 0.41 | J15: 0.1 | K15: =I15+I15*J15 -> 0.451 | L15: =H15*I15 -> 1.64 | M15: =L15+L15*J15 -> 1.804 | N15: Unidad | O15: 1 | Q15: =P15+P15*J15 -> 0 | R15: =P15*H15 -> 0 | S15: =R15+R15*J15 -> 0
A16: Material Sanitario de Consumo | B16: Catéteres, sondas, drenajes, colectores y membranas de diálisis. | C16: Sonda vesical de 3 vías Nº 18 | D16: 3110SOND00007 | E16: Sonda vesical de 3 vías Nº 18 | G16: 1 | H16: =G16*2 -> 2 | I16: 115.67 | J16: 0.21 | K16: =I16+I16*J16 -> 139.9607 | L16: =H16*I16 -> 231.34 | M16: =L16+L16*J16 -> 279.9214 | N16: Caja | O16: 60 | Q16: =P16+P16*J16 -> 0 | R16: =P16*H16 -> 0 | S16: =R16+R16*J16 -> 0
A17: Material Sanitario de Consumo | B17: Catéteres, sondas, drenajes, colectores y membranas de diálisis. | C17: Sonda vesical baja fricción nº16 Lubrica | D17: 3110SOND00008 | E17: Sonda vesical baja fricción nº16 Lubricada es una sonda estéril de poliuretano. | G17: 1 | H17: =G17*2 -> 2 | I17: 127.3 | J17: 0.1 | K17: =I17+I17*J17 -> 140.03 | L17: =H17*I17 -> 254.6 | M17: =L17+L17*J17 -> 280.06 | N17: Caja | O17: 60 | Q17: =P17+P17*J17 -> 0 | R17: =P17*H17 -> 0 | S17: =R17+R17*J17 -> 0
A18: Material Sanitario de Consumo | B18: Catéteres, sondas, drenajes, colectores y membranas de diálisis. | C18: Sonda vesical baja fricción nº14. Lubric | D18: 3110SOND00009 | E18: Sonda vesical baja fricción nº14. Lubricada es una sonda estéril de Poliuretano. | F18: 28494 | G18: 1 | H18: =G18*2 -> 2 | I18: 112.61 | J18: 0.1 | K18: =I18+I18*J18 -> 123.871 | L18: =H18*I18 -> 225.22 | M18: =L18+L18*J18 -> 247.742 | N18: Caja | O18: 60 | Q18: =P18+P18*J18 -> 0 | R18: =P18*H18 -> 0 | S18: =R18+R18*J18 -> 0
A19: Material Sanitario de Consumo | B19: Material de curas, suturas y apósitos. | C19: Campo de Incisión Antimicrobiano 56cm x | D19: 3120APOS00019 | E19: Campo de Incisión Antimicrobiano 56cm x 45cm. | F19: 6650 | G19: 15 | H19: =G19*2 -> 30 | I19: 159.02 | J19: 0.21 | K19: =I19+I19*J19 -> 192.4142 | L19: =H19*I19 -> 4770.6 | M19: =L19+L19*J19 -> 5772.426 | N19: Caja | O19: 10 | Q19: =P19+P19*J19 -> 0 | R19: =P19*H19 -> 0 | S19: =R19+R19*J19 -> 0
A20: Material Sanitario de Consumo | B20: Material de curas, suturas y apósitos. | C20: Integra piel artificial monocapa 10 x 12 | D20: 3120APOS00022 | E20: Integra piel artificial monocapa 10 x 12,5 | G20: 2 | H20: =G20*2 -> 4 | I20: 2142 | J20: 0.1 | K20: =I20+I20*J20 -> 2356.2 | L20: =H20*I20 -> 8568 | M20: =L20+L20*J20 -> 9424.8 | N20: Unidad | O20: 1 | Q20: =P20+P20*J20 -> 0 | R20: =P20*H20 -> 0 | S20: =R20+R20*J20 -> 0
A21: Material Sanitario de Consumo | B21: Material de curas, suturas y apósitos. | C21: Integra piel artificial 10 x 12,5 | D21: 3120APOS00023 | E21: Integra piel artificial 10 x 12,5 | G21: 1 | H21: =G21*2 -> 2 | I21: 3570 | J21: 0.1 | K21: =I21+I21*J21 -> 3927 | L21: =H21*I21 -> 7140 | M21: =L21+L21*J21 -> 7854 | N21: Unidad | O21: 1 | Q21: =P21+P21*J21 -> 0 | R21: =P21*H21 -> 0 | S21: =R21+R21*J21 -> 0
A22: Material Sanitario de Consumo | B22: Material de curas, suturas y apósitos. | C22: Opticlude 20 parches 6,3 x 4,8 cm | D22: 3120APOS00025 | E22: Opticlude 20 parches 6,3 x 4,8 cm | F22: 1537 | G22: 1 | H22: =G22*2 -> 2 | I22: 0.23 | J22: 0.1 | K22: =I22+I22*J22 -> 0.253 | L22: =H22*I22 -> 0.46 | M22: =L22+L22*J22 -> 0.506 | N22: Caja | O22: 1 | Q22: =P22+P22*J22 -> 0 | R22: =P22*H22 -> 0 | S22: =R22+R22*J22 -> 0
A23: Material Sanitario de Consumo | B23: Material de curas, suturas y apósitos. | C23: Sensor invos 5100c neonatal <5 kgr. | D23: 3120APOS00027 | E23: Sensor invos 5100c neonatal <5 kgr. | G23: 24 | H23: =G23*2 -> 48 | I23: 228.12 | J23: 0.21 | K23: =I23+I23*J23 -> 276.0252 | L23: =H23*I23 -> 10949.76 | M23: =L23+L23*J23 -> 13249.21 | N23: Unidad | O23: 1 | Q23: =P23+P23*J23 -> 0 | R23: =P23*H23 -> 0 | S23: =R23+R23*J23 -> 0
A24: Material Sanitario de Consumo | B24: Material de curas, suturas y apósitos. | C24: Lanzas quirúrgicas desechables y absorbe | D24: 3120APOS00028 | E24: Lanzas quirúrgicas desechables y súper absorbentes para uso durante procedimientos oftálmicos y otros procedimientos microquirúrgicos. Disponible en celulosa y PVA. Suministrado estéril | F24: X-400101 | G24: 2 | H24: =G24*2 -> 4 | I24: 3.16 | J24: 0.21 | K24: =I24+I24*J24 -> 3.8236 | L24: =H24*I24 -> 12.64 | M24: =L24+L24*J24 -> 15.2944 | N24: Caja | O24: 10 | Q24: =P24+P24*J24 -> 0 | R24: =P24*H24 -> 0 | S24: =R24+R24*J24 -> 0
A25: Material Sanitario de Consumo | B25: Material de curas, suturas y apósitos. | C25: Surgicel fibrilar 2,5 x 5,1 cm c/10 | D25: 3120APOS00029 | E25: Surgicel fibrilar 2,5 x 5,1 cm c/10 | G25: 1 | H25: =G25*2 -> 2 | I25: 688.6 | J25: 0.1 | K25: =I25+I25*J25 -> 757.46 | L25: =H25*I25 -> 1377.2 | M25: =L25+L25*J25 -> 1514.92 | N25: Caja | O25: 10 | Q25: =P25+P25*J25 -> 0 | R25: =P25*H25 -> 0 | S25: =R25+R25*J25 -> 0
A26: Material Sanitario de Consumo | B26: Material de curas, suturas y apósitos. | C26: Lyostypt 10 X 12cm | D26: 3120APOS00034 | E26: Lyostypt 10 X 12cm | F26: A003879 1069209 | G26: 1 | H26: =G26*2 -> 2 | I26: 141.27 | J26: 0.1 | K26: =I26+I26*J26 -> 155.397 | L26: =H26*I26 -> 282.54 | M26: =L26+L26*J26 -> 310.794 | N26: Caja | O26: 4 | Q26: =P26+P26*J26 -> 0 | R26: =P26*H26 -> 0 | S26: =R26+R26*J26 -> 0
A27: Material Sanitario de Consumo | B27: Material de curas, suturas y apósitos. | C27: Taponamiento de oídos. Compresa para Oíd | D27: 3120GASA00009 | E27: Taponamiento de oídos. Compresa para Oídos, 12mm x 24mm | F27: 400162 | G27: 2 | H27: =G27*2 -> 4 | I27: 114.55 | J27: 0.21 | K27: =I27+I27*J27 -> 138.6055 | L27: =H27*I27 -> 458.2 | M27: =L27+L27*J27 -> 554.422 | N27: Caja | O27: 10 | Q27: =P27+P27*J27 -> 0 | R27: =P27*H27 -> 0 | S27: =R27+R27*J27 -> 0
A28: Material Sanitario de Consumo | B28: Material de curas, suturas y apósitos. | C28: Cinta vascular medi loop amarillo | D28: 3120LAZO00001 | E28: Cinta vascular medi loop amarillo | F28: VLMAXY | G28: 1 | H28: =G28*2 -> 2 | I28: 170 | J28: 0.21 | K28: =I28+I28*J28 -> 205.7 | L28: =H28*I28 -> 340 | M28: =L28+L28*J28 -> 411.4 | N28: Caja | O28: 100 | Q28: =P28+P28*J28 -> 0 | R28: =P28*H28 -> 0 | S28: =R28+R28*J28 -> 0
A29: Material Sanitario de Consumo | B29: Material de curas, suturas y apósitos. | C29: Sutura que se prepara a partir del polié | D29: 3120SUTU00004 | E29: Sutura que se prepara a partir del poliéster, poli (p-dioxanona). La sutura está indicada para uso en la aproximación de tejido blando. Sutura PDS II 2/0. | F29: W9125H | G29: 1 | H29: =G29*2 -> 2 | I29: 206 | J29: 0.1 | K29: =I29+I29*J29 -> 226.6 | L29: =H29*I29 -> 412 | M29: =L29+L29*J29 -> 453.2 | N29: Caja | O29: 36 | Q29: =P29+P29*J29 -> 0 | R29: =P29*H29 -> 0 | S29: =R29+R29*J29 -> 0
A30: Material Sanitario de Consumo | B30: Material de curas, suturas y apósitos. | C30: Sutura que se prepara a partir del polié | D30: 3120SUTU00005 | E30: Sutura que se prepara a partir del poliéster, poli (p-dioxanona). La sutura está indicada para uso en la aproximación de tejido blando. Sutura PDS II 3/0. | F30: W9124H | G30: 1 | H30: =G30*2 -> 2 | I30: 225.83 | J30: 0.1 | K30: =I30+I30*J30 -> 248.413 | L30: =H30*I30 -> 451.66 | M30: =L30+L30*J30 -> 496.826 | N30: Caja | O30: 36 | Q30: =P30+P30*J30 -> 0 | R30: =P30*H30 -> 0 | S30: =R30+R30*J30 -> 0
A31: Material Sanitario de Consumo | B31: Material de curas, suturas y apósitos. | C31: Sutura que se prepara a partir del polié | D31: 3120SUTU00006 | E31: Sutura que se prepara a partir del poliéster, poli (p-dioxanona). La sutura está indicada para uso en la aproximación de tejido blando. Sutura PDS II 4/0. | F31: W9115H | G31: 1 | H31: =G31*2 -> 2 | I31: 198.29 | J31: 0.1 | K31: =I31+I31*J31 -> 218.119 | L31: =H31*I31 -> 396.58 | M31: =L31+L31*J31 -> 436.238 | N31: Caja | O31: 36 | Q31: =P31+P31*J31 -> 0 | R31: =P31*H31 -> 0 | S31: =R31+R31*J31 -> 0
A32: Material Sanitario de Consumo | B32: Material de curas, suturas y apósitos. | C32: Sutura que se prepara a partir del polié | D32: 3120SUTU00007 | E32: Sutura que se prepara a partir del poliéster, poli (p-dioxanona). La sutura está indicada para uso en la aproximación de tejido blando. Sutura PDS II 5/0 13mm 45cm. | G32: 1 | H32: =G32*2 -> 2 | I32: 341.13 | J32: 0.1 | K32: =I32+I32*J32 -> 375.243 | L32: =H32*I32 -> 682.26 | M32: =L32+L32*J32 -> 750.486 | N32: Caja | O32: 36 | Q32: =P32+P32*J32 -> 0 | R32: =P32*H32 -> 0 | S32: =R32+R32*J32 -> 0
A33: Material Sanitario de Consumo | B33: Material de curas, suturas y apósitos. | C33: Sutura vloc 2/0 90 30 cm. gs-21 | D33: 3120SUTU00008 | E33: Sutura vloc 2/0 90 30 cm. gs-21 | G33: 1 | H33: =G33*2 -> 2 | I33: 728.52 | J33: 0.1 | K33: =I33+I33*J33 -> 801.372 | L33: =H33*I33 -> 1457.04 | M33: =L33+L33*J33 -> 1602.744 | N33: Caja | O33: 12 | Q33: =P33+P33*J33 -> 0 | R33: =P33*H33 -> 0 | S33: =R33+R33*J33 -> 0
A34: Material Sanitario de Consumo | B34: Material de curas, suturas y apósitos. | C34: Sutura v-loc 90 3/0 45cm | D34: 3120SUTU00009 | E34: Sutura v-loc 90 3/0 45cm | G34: 1 | H34: =G34*2 -> 2 | I34: 728.52 | J34: 0.1 | K34: =I34+I34*J34 -> 801.372 | L34: =H34*I34 -> 1457.04 | M34: =L34+L34*J34 -> 1602.744 | N34: Caja | O34: 12 | Q34: =P34+P34*J34 -> 0 | R34: =P34*H34 -> 0 | S34: =R34+R34*J34 -> 0
A35: Material Sanitario de Consumo | B35: Material de curas, suturas y apósitos. | C35: Sutura Ti-cron 3/0 75cm v30 | D35: 3120SUTU00017 | E35: Sutura Ti-cron 3/0 75cm v30 | F35: A010105 3205-41 | G35: 1 | H35: =G35*2 -> 2 | I35: 188.19 | J35: 0.1 | K35: =I35+I35*J35 -> 207.009 | L35: =H35*I35 -> 376.38 | M35: =L35+L35*J35 -> 414.018 | N35: Caja | O35: 36 | Q35: =P35+P35*J35 -> 0 | R35: =P35*H35 -> 0 | S35: =R35+R35*J35 -> 0
A36: Material Sanitario de Consumo | B36: Otro material desechable. | C36: Conexión 10x10 rectas no estéril | D36: 3130ADAP00005 | E36: Conexión 10x10 rectas no estéril | G36: 1 | H36: =G36*2 -> 2 | I36: 29.58 | J36: 0.21 | K36: =I36+I36*J36 -> 35.7918 | L36: =H36*I36 -> 59.16 | M36: =L36+L36*J36 -> 71.5836 | N36: Caja | O36: 100 | Q36: =P36+P36*J36 -> 0 | R36: =P36*H36 -> 0 | S36: =R36+R36*J36 -> 0
A37: Material Sanitario de Consumo | B37: Otro material desechable. | C37: Conexión recta med-med | D37: 3130ADAP00006 | E37: Conexión recta med-med | F37: 10.00.03 | G37: 1 | H37: =G37*2 -> 2 | I37: 29.58 | J37: 0.21 | K37: =I37+I37*J37 -> 35.7918 | L37: =H37*I37 -> 59.16 | M37: =L37+L37*J37 -> 71.5836 | N37: Caja | O37: 100 | Q37: =P37+P37*J37 -> 0 | R37: =P37*H37 -> 0 | S37: =R37+R37*J37 -> 0
A38: Material Sanitario de Consumo | B38: Otro material desechable. | C38: Cintas vasculares azul para identificaci | D38: 3130QUIR00001 | E38: Cintas vasculares para una segura identificación, retracción, oclusión de venas, arterias, nervios, uréteres y tendones, durante los procedimientos quirúrgicos. Radiopaco. Estéril por óxido de etileno. Silicona de grado médico curada con platino. Proporciona una adecuada retracción y mantiene la tensión. Sección oval para evitar trauma en los tejidos. Sin vicios ni pliegues. Cinta vascular dormo loop azul | F38: 31145678 | G38: 1 | H38: =G38*2 -> 2 | I38: 28.56 | J38: 0.21 | K38: =I38+I38*J38 -> 34.5576 | L38: =H38*I38 -> 57.12 | M38: =L38+L38*J38 -> 69.1152 | N38: Caja | O38: 20 | Q38: =P38+P38*J38 -> 0 | R38: =P38*H38 -> 0 | S38: =R38+R38*J38 -> 0
A39: Material Sanitario de Consumo | B39: Otro material desechable. | C39: Cintas vasculares blanca: identificación | D39: 3130QUIR00002 | E39: Cintas vasculares para una segura identificación, retracción, oclusión de venas, arterias, nervios, uréteres y tendones, durante los procedimientos quirúrgicos. Radiopaco. Estéril por óxido de etileno. Silicona de grado médico curada con platino. Proporciona una adecuada retracción y mantiene la tensión. Sección oval para evitar trauma en los tejidos. Sin vicios ni pliegues. Cinta vascular dormo loop blanca | F39: 31145686 | G39: 1 | H39: =G39*2 -> 2 | I39: 28.56 | J39: 0.21 | K39: =I39+I39*J39 -> 34.5576 | L39: =H39*I39 -> 57.12 | M39: =L39+L39*J39 -> 69.1152 | N39: Caja | O39: 20 | Q39: =P39+P39*J39 -> 0 | R39: =P39*H39 -> 0 | S39: =R39+R39*J39 -> 0
A40: Material Sanitario de Consumo | B40: Otro material desechable. | C40: Funda completa microscopio zeiss | D40: 3130QUIR00003 | E40: Funda completa microscopio zeiss | G40: 6 | H40: =G40*2 -> 12 | I40: 166.46 | J40: 0.21 | K40: =I40+I40*J40 -> 201.4166 | L40: =H40*I40 -> 1997.52 | M40: =L40+L40*J40 -> 2416.9992 | N40: Caja | O40: 10 | Q40: =P40+P40*J40 -> 0 | R40: =P40*H40 -> 0 | S40: =R40+R40*J40 -> 0
...

Sheet LOTE 3
A1: LOTE 3
A2: FAMILIA PIXEL | B2: SUBFAMILIA PIXEL | C2: NOMBRE | D2: MATERIAL MUTUA MONTAÑESA | E2: DESCRIPCIÓN ARTÍCULO SOLICITADO MM | F2: Referencia Fabricante | G2: Cantidad estimada PARA 1 AÑO | H2: Cantidad estimada PARA 2 AÑOS | I2: Precio Unitario MAXIMO | J2: IVA | K2: Precio unitario con IVA MAXIMO | L2: PBL 2 AÑOS SIN IVA | M2: PBL 2 AÑOS CON IVA | N2: CAJA ó UNIDAD | O2: UNIDADES | P2: PRECIO UNITARIO OFERTADO SIN IVA | Q2: PRECIO UNITARIO OFERTADO CON IVA | R2: OFERTA TOTAL 2 AÑOS SIN IVA | S2: OFERTA TOTAL 2 AÑOS CON IVA | T2: REFERENCIA FABRICANTE OFERTADO
A3: Material Sanitario de Consumo | B3: Prótesis e implantes. | C3: 20 large titanium clips- ligaclip mca | D3: 3180CLIP00001 | E3: 20 large titanium clips- ligaclip mca | G3: 2 | H3: =G3*2 -> 4 | I3: 673.2 | J3: 0.1 | K3: =I3+I3*J3 -> 740.52 | L3: =I3*H3 -> 2692.8 | M3: =L3+L3*J3 -> 2962.08 | N3: Caja | O3: 6 | Q3: =P3+P3*J3 -> 0 | R3: =P3*H3 -> 0 | S3: =R3+R3*J3 -> 0
A4: Material Sanitario de Consumo | B4: Prótesis e implantes. | C4: 20 small titanium clips ligaclip mca | D4: 3180CLIP00002 | E4: 20 small titanium clips ligaclip mca | G4: 6 | H4: =G4*2 -> 12 | I4: 673.2 | J4: 0.1 | K4: =I4+I4*J4 -> 740.52 | L4: =I4*H4 -> 8078.4 | M4: =L4+L4*J4 -> 8886.24 | N4: Caja | O4: 6 | Q4: =P4+P4*J4 -> 0 | R4: =P4*H4 -> 0 | S4: =R4+R4*J4 -> 0
A5: Material Sanitario de Consumo | B5: Prótesis e implantes. | C5: Aplicador clip titanio l-24cm | D5: 3180CLIP00003 | E5: Aplicador clip titanio l-24cm | G5: 5 | H5: =G5*2 -> 10 | I5: 397.8 | J5: 0.1 | K5: =I5+I5*J5 -> 437.58 | L5: =I5*H5 -> 3978 | M5: =L5+L5*J5 -> 4375.8 | N5: Caja | O5: 6 | Q5: =P5+P5*J5 -> 0 | R5: =P5*H5 -> 0 | S5: =R5+R5*J5 -> 0
A6: Material Sanitario de Consumo | B6: Otro material sanitario. | C6: Accesorio del equipo sterrad, contenedor | D6: 3190ESTE00001 | E6: Accesorio del equipo sterrad, contenedor que almacena 3 cassettes después de su uso. | G6: 2 | H6: =G6*2 -> 4 | I6: 279.48 | J6: 0.21 | K6: =I6+I6*J6 -> 338.1708 | L6: =I6*H6 -> 1117.92 | M6: =L6+L6*J6 -> 1352.6832 | N6: Unidad | O6: 1 | Q6: =P6+P6*J6 -> 0 | R6: =P6*H6 -> 0 | S6: =R6+R6*J6 -> 0
A7: Material Sanitario de Consumo | B7: Otro material sanitario. | C7: Cassettes sterrad nx. esterilizante, ent | D7: 3190ESTE00013 | E7: Cassettes sterrad nx. esterilizante en formato de cassette, que entrega una cantidad predefinida de peróxido de hidrógeno por ciclo para lograr la esterilización de manera conveniente y efectiva. | G7: 29 | H7: =G7*2 -> 58 | I7: 642.6 | J7: 0.21 | K7: =I7+I7*J7 -> 777.546 | L7: =I7*H7 -> 37270.8 | M7: =L7+L7*J7 -> 45097.668 | N7: Caja | O7: 5 | Q7: =P7+P7*J7 -> 0 | R7: =P7*H7 -> 0 | S7: =R7+R7*J7 -> 0
K8: PBL 2 AÑOS | L8: =SUM(L3:L7) -> 53137.92 | M8: =SUM(M3:M7) -> 62674.471 | Q8: OFERTA TOTAL 2 AÑOS SIN IVA | R8: =SUM(R3:R7) -> 0
R9: OFERTA TOTAL 2 AÑOS CON IVA | S9: =SUM(S3:S7) -> 0

Sheet LOTE 4
A1: LOTE 4
A2: FAMILIA PIXEL | B2: SUBFAMILIA PIXEL | C2: NOMBRE | D2: MATERIAL MUTUA MONTAÑESA | E2: DESCRIPCIÓN ARTÍCULO SOLICITADO MM | F2: Referencia Fabricante | G2: Cantidad estimada 1 AÑO | H2: Cantidad estimada 2 AÑOS | I2: Precio Unitario MAXIMO | J2: IVA | K2: Precio unitario con IVA MAXIMO | L2: PBL 2 AÑOS SIN IVA | M2: PBL 2 AÑOS CON IVA | N2: CAJA ó UNIDAD | O2: UNIDADES | P2: PRECIO UNITARIO OFERTADO SIN IVA | Q2: PRECIO UNITARIO OFERTADO CON IVA | R2: OFERTA TOTAL 2 AÑOS SIN IVA | S2: OFERTA TOTAL 2 AÑOS CON IVA | T2: REFERENCIA FABRICANTE OFERTADO
A3: Material Sanitario de Consumo | B3: Otro material desechable. | C3: Guante látex estéril signature essential | D3: 3130GUAN00001 | E3: Guante látex estéril signature essential T-6,5 | F3: MSG5965 | G3: 15 | H3: =G3*2 -> 30 | I3: 22.44 | J3: 0.21 | K3: =I3+I3*J3 -> 27.1524 | L3: =H3*I3 -> 673.2 | M3: =L3+L3*J3 -> 814.572 | N3: Caja | O3: 100 | Q3: =P3+P3*J3 -> 0 | R3: =P3*H3 -> 0 | S3: =R3+R3*J3 -> 0
A4: Material Sanitario de Consumo | B4: Otro material desechable. | C4: Guante látex estéril signatura essentia | D4: 3130GUAN00002 | E4: Guante látex estéril signatura essential T-7 | F4: MSG5970 | G4: 15 | H4: =G4*2 -> 30 | I4: 22.44 | J4: 0.21 | K4: =I4+I4*J4 -> 27.1524 | L4: =H4*I4 -> 673.2 | M4: =L4+L4*J4 -> 814.572 | N4: Caja | O4: 100 | Q4: =P4+P4*J4 -> 0 | R4: =P4*H4 -> 0 | S4: =R4+R4*J4 -> 0
A5: Material Sanitario de Consumo | B5: Otro material desechable. | C5: Guante látex estéril signatura essentia | D5: 3130GUAN00003 | E5: Guante látex estéril signatura essential T-8 | F5: MSG5980 | G5: 15 | H5: =G5*2 -> 30 | I5: 22.44 | J5: 0.21 | K5: =I5+I5*J5 -> 27.1524 | L5: =H5*I5 -> 673.2 | M5: =L5+L5*J5 -> 814.572 | N5: Caja | O5: 100 | Q5: =P5+P5*J5 -> 0 | R5: =P5*H5 -> 0 | S5: =R5+R5*J5 -> 0
A6: Material Sanitario de Consumo | B6: Otro material desechable. | C6: Guante látex estéril signatura essentia | D6: 3130GUAN00004 | E6: Guante látex estéril signatura essential T-7,5 | F6: MSG5975 | G6: 15 | H6: =G6*2 -> 30 | I6: 22.44 | J6: 0.21 | K6: =I6+I6*J6 -> 27.1524 | L6: =H6*I6 -> 673.2 | M6: =L6+L6*J6 -> 814.572 | N6: Caja | O6: 100 | Q6: =P6+P6*J6 -> 0 | R6: =P6*H6 -> 0 | S6: =R6+R6*J6 -> 0
A7: Material Sanitario de Consumo | B7: Otro material desechable. | C7: Guante látex estéril signatura essentia | D7: 3130GUAN00005 | E7: Guante látex estéril signatura essential T-6 | F7: MSG5960 | G7: 15 | H7: =G7*2 -> 30 | I7: 22.44 | J7: 0.21 | K7: =I7+I7*J7 -> 27.1524 | L7: =H7*I7 -> 673.2 | M7: =L7+L7*J7 -> 814.572 | N7: Caja | O7: 100 | Q7: =P7+P7*J7 -> 0 | R7: =P7*H7 -> 0 | S7: =R7+R7*J7 -> 0
A8: Material Sanitario de Consumo | B8: Otro material desechable. | C8: Guante látex estéril signatura essentia | D8: 3130GUAN00006 | E8: Guante látex estéril signatura essential T-8,5 | F8: MSG5985 | G8: 15 | H8: =G8*2 -> 30 | I8: 22.44 | J8: 0.21 | K8: =I8+I8*J8 -> 27.1524 | L8: =H8*I8 -> 673.2 | M8: =L8+L8*J8 -> 814.572 | N8: Caja | O8: 100 | Q8: =P8+P8*J8 -> 0 | R8: =P8*H8 -> 0 | S8: =R8+R8*J8 -> 0
A9: Material Sanitario de Consumo | B9: Otro material desechable. | C9: Funda estéril de amplificador foliodrape | D9: 3130QUIR00004 | E9: Funda estéril de amplificador foliodrape 76x91 | F9: ICE63036R | G9: 1 | H9: =G9*2 -> 2 | I9: 23.46 | J9: 0.21 | K9: =I9+I9*J9 -> 28.3866 | L9: =H9*I9 -> 46.92 | M9: =L9+L9*J9 -> 56.7732 | N9: Caja | O9: 40 | Q9: =P9+P9*J9 -> 0 | R9: =P9*H9 -> 0 | S9: =R9+R9*J9 -> 0
A10: Material Sanitario de Consumo | B10: Otro material desechable. | C10: Funda para arco en C mini 137X216CM | D10: 3130QUIR00005 | E10: Funda para arco en C mini 137X216CM | F10: ICE4420 | G10: 4 | H10: =G10*2 -> 8 | I10: 108.8 | J10: 0.21 | K10: =I10+I10*J10 -> 131.648 | L10: =H10*I10 -> 870.4 | M10: =L10+L10*J10 -> 1053.184 | N10: Caja | O10: 20 | Q10: =P10+P10*J10 -> 0 | R10: =P10*H10 -> 0 | S10: =R10+R10*J10 -> 0
A11: Material Sanitario de Consumo | B11: Otro material desechable. | C11: Funda de arco en C para orthoscan. Medid | D11: 3130QUIR00010 | E11: Funda de arco en C para orthoscan. Funda de polietileno antiestático transparente y ajustable para la protección del arco en C. Medidas 137x160cm. Envase unitario estéril. | F11: 8888MEU-ZIE | G11: 2 | H11: =G11*2 -> 4 | I11: 125.97 | J11: 0.21 | K11: =I11+I11*J11 -> 152.4237 | L11: =H11*I11 -> 503.88 | M11: =L11+L11*J11 -> 609.6948 | N11: Caja | O11: 20 | Q11: =P11+P11*J11 -> 0 | R11: =P11*H11 -> 0 | S11: =R11+R11*J11 -> 0
A12: Material Sanitario de Consumo | B12: Otro material desechable. | C12: Tubo en tandem Med-soft. | D12: 3130QUIR00011 | E12: Tubo en tandem Med-soft. | F12: DYNDTND | G12: 1 | H12: =G12*2 -> 2 | I12: 42.43 | J12: 0.21 | K12: =I12+I12*J12 -> 51.3403 | L12: =H12*I12 -> 84.86 | M12: =L12+L12*J12 -> 102.6806 | N12: Caja | O12: 20 | Q12: =P12+P12*J12 -> 0 | R12: =P12*H12 -> 0 | S12: =R12+R12*J12 -> 0
A13: Material Sanitario de Consumo | B13: Otro material desechable. | C13: Bolsa de aspiración 3l. Med-soft | D13: 3130RESP00048 | E13: Bolsa de aspiración 3l. Med-soft | F13: DYNDSCL3000 | G13: 2 | H13: =G13*2 -> 4 | I13: 108.12 | J13: 0.21 | K13: =I13+I13*J13 -> 130.8252 | L13: =H13*I13 -> 432.48 | M13: =L13+L13*J13 -> 523.3008 | N13: Caja | O13: 50 | Q13: =P13+P13*J13 -> 0 | R13: =P13*H13 -> 0 | S13: =R13+R13*J13 -> 0
A14: Material Sanitario de Consumo | B14: Otro material desechable. | C14: Funda de empuñadura de lámpara quirúrgi | D14: 3130ROPA00020 | E14: Funda de empuñadura de lámpara quirúrgica Flex, plana, 1EA | F14: FLHC1 | G14: 9 | H14: =G14*2 -> 18 | I14: 204 | J14: 0.21 | K14: =I14+I14*J14 -> 246.84 | L14: =H14*I14 -> 3672 | M14: =L14+L14*J14 -> 4443.12 | N14: Caja | O14: 400 | Q14: =P14+P14*J14 -> 0 | R14: =P14*H14 -> 0 | S14: =R14+R14*J14 -> 0
... A23: Material Sanitario de Consumo | B23: Otro material sanitario. | C23: Mascarilla quirúrgica con visor azul. | D23: 3190RESP00002 | E23: Mascarilla quirúrgica, con cintas, protector y tira de espuma antivaho. Mascarilla quirúrgica con visor azul. | F23: NONE27 410 | G23: 5 | H23: =G23*2 -> 10 | I23: 30.6 | J23: 0.21 | K23: =I23+I23*J23 -> 37.026 | L23: =H23*I23 -> 306 | M23: =L23+L23*J23 -> 370.26 | N23: Caja | O23: 100 | Q23: =P23+P23*J23 -> 0 | R23: =P23*H23 -> 0 | S23: =R23+R23*J23 -> 0
C24: #N/A | K24: PBL 2 AÑOS | L24: =SUM(L3:L23) -> 76421.7 | M24: =SUM(M3:M23) -> 92470.257 | Q24: OFERTA TOTAL 2 AÑOS SIN IVA | R24: =SUM(R3:R23) -> 0
R25: OFERTA TOTAL 2 AÑOS CON IVA | S25: =SUM(S3:S23) -> 0

Sheet LOTE 5
A1: LOTE 5
A2: FAMILIA PIXEL | B2: SUBFAMILIA PIXEL | C2: NOMBRE | D2: MATERIAL MUTUA MONTAÑESA | E2: DESCRIPCIÓN ARTÍCULO SOLICITADO MM | F2: Referencia Fabricante | G2: Cantidad estimada 1 AÑO | H2: Cantidad estimada 2 AÑOS | I2: Precio Unitario MAXIMO | J2: IVA | K2: Precio unitario con IVA MAXIMO | L2: PBL 2 AÑOS SIN IVA | M2: PBL 2 AÑOS CON IVA | N2: CAJA ó UNIDAD | O2: UNIDADES | P2: PRECIO UNITARIO OFERTADO SIN IVA | Q2: PRECIO UNITARIO OFERTADO CON IVA | R2: OFERTA TOTAL 2 AÑOS SIN IVA | S2: OFERTA TOTAL 2 AÑOS CON IVA | T2: REFERENCIA FABRICANTE OFERTADO
A3: Productos Farmacéuticos | B3: Otros fármacos específicos. | C3: Barrera antiad sp 3ml | D3: 3009KITS00001 | E3: Barrera antiad sp 3ml. Barrera antiadherencia gel, biocompatible, reabsorbible y fluido compuesto por ácido hialurónico sódico auto-reticulado totalmente sintético | F3: AABG-3SP | G3: 31 | H3: =G3*2 -> 62 | I3: 561 | J3: 0.1 | K3: =I3+I3*J3 -> 617.1 | L3: =H3*I3 -> 34782 | M3: =L3+L3*J3 -> 38260.2 | N3: Unidad | O3: 1 | Q3: =P3+P3*J3 -> 0 | R3: =P3*H3 -> 0 | S3: =R3+R3*J3 -> 0
A4: Material Sanitario de Consumo | B4: Otro material desechable. | C4: Torniquete cirugía podológica Tallas M / | D4: 3130QUIR00013 | E4: Torniquete cirugía podológica Tallas M / L / XL | F4: 12.485 | G4: 55 | H4: =G4*2 -> 110 | I4: 41.82 | J4: 0.21 | K4: =I4+I4*J4 -> 50.6022 | L4: =H4*I4 -> 4600.2 | M4: =L4+L4*J4 -> 5566.242 | N4: Caja | O4: 5 | Q4: =P4+P4*J4 -> 0 | R4: =P4*H4 -> 0 | S4: =R4+R4*J4 -> 0
A5: Material Sanitario de Consumo | B5: Otro material sanitario. | C5: Spray aesculap motores | D5: 3190ESTE00032 | E5: Spray aesculap motores | F5: GB600 | G5: 4 | H5: =G5*2 -> 8 | I5: 94.86 | J5: 0.21 | K5: =I5+I5*J5 -> 114.7806 | L5: =H5*I5 -> 758.88 | M5: =L5+L5*J5 -> 918.2448 | N5: Unidad | O5: 1 | Q5: =P5+P5*J5 -> 0 | R5: =P5*H5 -> 0 | S5: =R5+R5*J5 -> 0
A6: Instrumental y pequeño utillaje | B6: Instrumental y pequeño utillaje de uso clínico. | C6: Impresora de etiquetas impresión directa | D6: 3200ADAP00013 | E6: Impresora de etiquetas, conexión eternet, impresión directa desde aplicaciones windows sin necesidad de SW intermedio. <Tamaño de etiquetas>, entorno sanitario,… | G6: 3 | H6: =G6*2 -> 6 | I6: 765 | J6: 0.21 | K6: =I6+I6*J6 -> 925.65 | L6: =H6*I6 -> 4590 | M6: =L6+L6*J6 -> 5553.9 | N6: Unidad | O6: 1 | Q6: =P6+P6*J6 -> 0 | R6: =P6*H6 -> 0 | S6: =R6+R6*J6 -> 0
A7: Instrumental y pequeño utillaje | B7: Instrumental y pequeño utillaje de uso clínico. | C7: Cepillo limpieza instrumental 2x75mm p/3 | D7: 3200ESTE00001 | E7: Cepillo limpieza instrumental 2x75mm p/3 | G7: 2 | H7: =G7*2 -> 4 | I7: 48.88 | J7: 0.21 | K7: =I7+I7*J7 -> 59.1448 | L7: =H7*I7 -> 195.52 | M7: =L7+L7*J7 -> 236.5792 | N7: Unidad | O7: 1 | Q7: =P7+P7*J7 -> 0 | R7: =P7*H7 -> 0 | S7: =R7+R7*J7 -> 0
A8: Instrumental y pequeño utillaje | B8: Instrumental y pequeño utillaje de uso clínico. | C8: Cepillo limpieza instrumental 5x75mm p/3 | D8: 3200ESTE00002 | E8: Cepillo limpieza instrumental 5x75mm p/3 | G8: 2 | H8: =G8*2 -> 4 | I8: 38 | J8: 0.21 | K8: =I8+I8*J8 -> 45.98 | L8: =H8*I8 -> 152 | M8: =L8+L8*J8 -> 183.92 | N8: Unidad | O8: 1 | Q8: =P8+P8*J8 -> 0 | R8: =P8*H8 -> 0 | S8: =R8+R8*J8 -> 0
A9: Instrumental y pequeño utillaje | B9: Instrumental y pequeño utillaje de uso clínico. | C9: Cepillo limpieza instrumental 10x75mm p/ | D9: 3200ESTE00003 | E9: Cepillo limpieza instrumental 10x75mm p/3 | G9: 2 | H9: =G9*2 -> 4 | I9: 38 | J9: 0.21 | K9: =I9+I9*J9 -> 45.98 | L9: =H9*I9 -> 152 | M9: =L9+L9*J9 -> 183.92 | N9: Unidad | O9: 1 | Q9: =P9+P9*J9 -> 0 | R9: =P9*H9 -> 0 | S9: =R9+R9*J9 -> 0
A10: Instrumental y pequeño utillaje | B10: Instrumental y pequeño utillaje de uso clínico. | C10: Conjunto cepillos limpieza instrumental | D10: 3200INST00019 | E10: Conjunto cepillos limpieza instrumental canulados | G10: 1 | H10: =G10*2 -> 2 | I10: 38 | J10: 0.21 | K10: =I10+I10*J10 -> 45.98 | L10: =H10*I10 -> 76 | M10: =L10+L10*J10 -> 91.96 | N10: Unidad | O10: 1 | Q10: =P10+P10*J10 -> 0 | R10: =P10*H10 -> 0 | S10: =R10+R10*J10 -> 0
A11: Instrumental y pequeño utillaje | B11: Instrumental y pequeño utillaje de uso clínico. | C11: Cuña para enfermo de plástico | D11: 3200INST00023 | E11: Cuña para enfermo de plástico | G11: 11 | H11: =G11*2 -> 22 | I11: 11.22 | J11: 0.21 | K11: =I11+I11*J11 -> 13.5762 | L11: =H11*I11 -> 246.84 | M11: =L11+L11*J11 -> 298.6764 | N11: Unidad | O11: 1 | Q11: =P11+P11*J11 -> 0 | R11: =P11*H11 -> 0 | S11: =R11+R11*J11 -> 0
A12: Instrumental y pequeño utillaje | B12: Instrumental y pequeño utillaje de uso clínico. | C12: Palangana sanitaria 28 cm | D12: 3200INST00024 | E12: Palangana sanitaria 28 cm | G12: 11 | H12: =G12*2 -> 22 | I12: 7.14 | J12: 0.21 | K12: =I12+I12*J12 -> 8.6394 | L12: =H12*I12 -> 157.08 | M12: =L12+L12*J12 -> 190.0668 | N12: Unidad | O12: 1 | Q12: =P12+P12*J12 -> 0 | R12: =P12*H12 -> 0 | S12: =R12+R12*J12 -> 0
A13: Instrumental y pequeño utillaje | B13: Instrumental y pequeño utillaje de uso clínico. | C13: Botella orina caballero 1 litro | D13: 3200INST00025 | E13: Botella orina caballero 1 litro | G13: 11 | H13: =G13*2 -> 22 | I13: 7.14 | J13: 0.21 | K13: =I13+I13*J13 -> 8.6394 | L13: =H13*I13 -> 157.08 | M13: =L13+L13*J13 -> 190.0668 | N13: Unidad | O13: 1 | Q13: =P13+P13*J13 -> 0 | R13: =P13*H13 -> 0 | S13: =R13+R13*J13 -> 0
A14: Instrumental y pequeño utillaje | B14: Instrumental y pequeño utillaje de uso clínico. | C14: Mancuerna neopreno 5 kg | D14: 3200REHA00032 | E14: Mancuerna neopreno 5 kg | F14: A009847 | G14: 2 | H14: =G14*2 -> 4 | I14: 76.32 | J14: 0.21 | K14: =I14+I14*J14 -> 92.3472 | L14: =H14*I14 -> 305.28 | M14: =L14+L14*J14 -> 369.3888 | N14: Unidad | O14: 1 | Q14: =P14+P14*J14 -> 0 | R14: =P14*H14 -> 0 | S14: =R14+R14*J14 -> 0
A15: Instrumental y pequeño utillaje | B15: Instrumental y pequeño utillaje de uso clínico. | C15: Mancuerna neopreno 6 kg | D15: 3200REHA00033 | E15: Mancuerna neopreno 6 kg | F15: A009848 | G15: 2 | H15: =G15*2 -> 4 | I15: 107.65 | J15: 0.21 | K15: =I15+I15*J15 -> 130.2565 | L15: =H15*I15 -> 430.6 | M15: =L15+L15*J15 -> 521.026 | N15: Unidad | O15: 1 | Q15: =P15+P15*J15 -> 0 | R15: =P15*H15 -> 0 | S15: =R15+R15*J15 -> 0
A16: Instrumental y pequeño utillaje | B16: Instrumental y pequeño utillaje de uso clínico. | C16: Mancuerna neopreno 1 kg | D16: 3200REHA00034 | E16: Mancuerna neopreno 1 kg | F16: A009850 | G16: 1 | H16: =G16*2 -> 2 | I16: 14.06 | J16: 0.21 | K16: =I16+I16*J16 -> 17.0126 | L16: =H16*I16 -> 28.12 | M16: =L16+L16*J16 -> 34.0252 | N16: Unidad | O16: 1 | Q16: =P16+P16*J16 -> 0 | R16: =P16*H16 -> 0 | S16: =R16+R16*J16 -> 0
A17: Instrumental y pequeño utillaje | B17: Instrumental y pequeño utillaje de uso clínico. | C17: Pesa rusa/ kettlebell 8 kg | D17: 3200REHA00035 | E17: Pesa rusa/ kettlebell 8 kg | F17: A011143 | G17: 1 | H17: =G17*2 -> 2 | I17: 28.14 | J17: 0.21 | K17: =I17+I17*J17 -> 34.0494 | L17: =H17*I17 -> 56.28 | M17: =L17+L17*J17 -> 68.0988 | N17: Unidad | O17: 1 | Q17: =P17+P17*J17 -> 0 | R17: =P17*H17 -> 0 | S17: =R17+R17*J17 -> 0
A18: Instrumental y pequeño utillaje | B18: Instrumental y pequeño utillaje de uso clínico. | C18: Plataforma pliométrica en madera.Estruct | D18: 3200REHA00036 | E18: Plataforma pliométrica en madera.Estructura reforzada. Diferentes alturas de salto (50 cm, 60 cm, 70 cm). | F18: SV4602 | G18: 5 | H18: =G18*2 -> 10 | I18: 61.2 | J18: 0.21 | K18: =I18+I18*J18 -> 74.052 | L18: =H18*I18 -> 612 | M18: =L18+L18*J18 -> 740.52 | N18: Unidad | O18: 1 | Q18: =P18+P18*J18 -> 0 | R18: =P18*H18 -> 0 | S18: =R18+R18*J18 -> 0
A19: Instrumental y pequeño utillaje | B19: Instrumental y pequeño utillaje de uso clínico. | C19: Bolsa con carcasa de PVC resistente 15kg | D19: 3200REHA00037 | E19: Bolsa con carcasa de PVC resistente, ideal para mejorar la fuerza y el equilibrio corporal gracias a la inestabilidad del flujo de agua. Ofrece métodos de ejercicio más interesantes para los entusiastas del fitness y los atletas. Regule el volumen de agua con una capacidad máxima de 15 a 30 kg según el modelo. Equipado con 4 asas reforzadas para variar los ejercicios. Compacto cuando está plegado, es fácil de transportar y utilizar en el gimnasio o en casa. Indicador de peso cerca del nivel del agua. Tapón con válvula de aire/drenaje en el extremo. 15kgs | F19: SV4460 | G19: 2 | H19: =G19*2 -> 4 | I19: 56.1 | J19: 0.21 | K19: =I19+I19*J19 -> 67.881 | L19: =H19*I19 -> 224.4 | M19: =L19+L19*J19 -> 271.524 | N19: Unidad | O19: 1 | Q19: =P19+P19*J19 -> 0 | R19: =P19*H19 -> 0 | S19: =R19+R19*J19 -> 0
A20: Instrumental y pequeño utillaje | B20: Instrumental y pequeño utillaje de uso clínico. | C20: Kit Platos y barra de levantamiento de p | D20: 3200REHA00038 | E20: Kit Platos y barra de levantamiento de peso. Herramienta versátil para realizar ejercicios de peso. Ideal para el uso en casa. Incluye: - Set: - 1 barra - tres pares de discos (total 17,5Kg) - dos bloqueos de discos. - Discos: 2 x 5 kg en negro, 2 x 2,5 kg en rojo, 2 x 1,25 kg en amarillo | F20: P2I200720 | G20: 5 | H20: =G20*2 -> 10 | I20: 45.9 | J20: 0.21 | K20: =I20+I20*J20 -> 55.539 | L20: =H20*I20 -> 459 | M20: =L20+L20*J20 -> 555.39 | N20: Caja | O20: 5 | Q20: =P20+P20*J20 -> 0 | R20: =P20*H20 -> 0 | S20: =R20+R20*J20 -> 0
